BEGIN:VCALENDAR
VERSION:2.0
PRODID:-//eCommerce Hrvatska - ECPv6.11.2//NONSGML v1.0//EN
CALSCALE:GREGORIAN
METHOD:PUBLISH
X-WR-CALNAME:eCommerce Hrvatska
X-ORIGINAL-URL:https://ecommerce.hr
X-WR-CALDESC:Events for eCommerce Hrvatska
REFRESH-INTERVAL;VALUE=DURATION:PT1H
X-Robots-Tag:noindex
X-PUBLISHED-TTL:PT1H
BEGIN:VTIMEZONE
TZID:Europe/Zagreb
BEGIN:DAYLIGHT
TZOFFSETFROM:+0100
TZOFFSETTO:+0200
TZNAME:CEST
DTSTART:20220327T010000
END:DAYLIGHT
BEGIN:STANDARD
TZOFFSETFROM:+0200
TZOFFSETTO:+0100
TZNAME:CET
DTSTART:20221030T010000
END:STANDARD
END:VTIMEZONE
BEGIN:VTIMEZONE
TZID:Europe/Helsinki
BEGIN:DAYLIGHT
TZOFFSETFROM:+0200
TZOFFSETTO:+0300
TZNAME:EEST
DTSTART:20220327T010000
END:DAYLIGHT
BEGIN:STANDARD
TZOFFSETFROM:+0300
TZOFFSETTO:+0200
TZNAME:EET
DTSTART:20221030T010000
END:STANDARD
END:VTIMEZONE
BEGIN:VEVENT
DTSTART;VALUE=DATE:20221202
DTEND;VALUE=DATE:20221203
DTSTAMP:20260420T110214
CREATED:20221114T231235Z
LAST-MODIFIED:20221114T231235Z
UID:27408-1669939200-1670025599@ecommerce.hr
SUMMARY:Nominis e47 - Ivan Brezak Brkan // netokracija.com (powered by Neuralab)
DESCRIPTION:Ivan Brezak Brkan je osnivač i glavni za sve u poznatoj Netokraciji\, on-line magazinu posvećenom digitalnom poslovanju\, marketingu i kulturi. Netokracija je krenuo kao blog\, zadnjih 10 godina (ili više) je postao vodeći regionalni magazin za sve one koji žive od interneta\, a ove godine je akviziran od strane Infobipa.  \nSaša Tenodi je voditelj najvećeg podcasta u regiji Surove Strasti\, voditelj je podcasta Prodajni Mindset\, te voditelj u Nominisu\, uz predsjednika udruge eCommerce Hrvatska\, Marcela Majsana. \nZapratite Youtube kanal Udruge eCommerce Hrvatska i primajte obavijesti o novim epizodama!
URL:https://ecommerce.hr/event/nominis-e47-ivan-brezak-brkan-netokracija-com-powered-by-neuralab/
CATEGORIES:Podcast
ATTACH;FMTTYPE=image/png:https://ecommerce.hr/wp-content/uploads/2022/11/thumbnailNominis047IBB.png
ORGANIZER;CN="Udruga eCommerce Hrvatska":MAILTO:udruga@ecommerce.hr
END:VEVENT
BEGIN:VEVENT
DTSTART;VALUE=DATE:20221118
DTEND;VALUE=DATE:20221119
DTSTAMP:20260420T110214
CREATED:20221114T223724Z
LAST-MODIFIED:20221114T223724Z
UID:27404-1668729600-1668815999@ecommerce.hr
SUMMARY:Nominis e46 - Mario Frančešević // seekandhit.com (powered by Neuralab)
DESCRIPTION:Mario Frančešević je nakon kratke karijere u administraciji servera počeo kao perfomance marketing profesionalac i s vremenom postao jedan od istaknutih hrvatskih blogera na temu internet marketinga. Danas zapošljava preko 60 ljudi u marketinško-tehnološkoj agenciji Seekandhit.  \nSaša Tenodi je voditelj najvećeg podcasta u regiji Surove Strasti\, voditelj je podcasta Prodajni Mindset\, te voditelj u Nominisu\, uz predsjednika udruge eCommerce Hrvatska\, Marcela Majsana. \nZapratite Youtube kanal Udruge eCommerce Hrvatska i primajte obavijesti o novim epizodama!
URL:https://ecommerce.hr/event/nominis-e46-mario-francesevic-seekandhit-com-powered-by-neuralab/
CATEGORIES:Podcast
ATTACH;FMTTYPE=image/png:https://ecommerce.hr/wp-content/uploads/2022/11/thumbnailNominis046MarioFrancesevic.png
ORGANIZER;CN="Udruga eCommerce Hrvatska":MAILTO:udruga@ecommerce.hr
END:VEVENT
BEGIN:VEVENT
DTSTART;TZID=Europe/Helsinki:20220812T140000
DTEND;TZID=Europe/Helsinki:20220812T150000
DTSTAMP:20260420T110214
CREATED:20220810T130953Z
LAST-MODIFIED:20220812T065136Z
UID:24840-1660312800-1660316400@ecommerce.hr
SUMMARY:Nominis e39 - Matej Javorek / pickpack.hr (powered by Neuralab)
DESCRIPTION:Matej Javorek je osnivač digitalne agencije Are You Digital\, koji su razvili Pick&Pack aplikaciju za povezivanje s dostavnim službama\, a kasnije su pokrenuli i vlastiti fullfilment centar.\n\nSaša Tenodi je voditelj najvećeg podcasta u regiji Surove Strasti\, voditelj je podcasta Prodajni Mindset\, te voditelj u Nominisu\, uz predsjednika udruge eCommerce Hrvatska\, Marcela Majsana.\n\nZapratite Youtube kanal Udruge eCommerce Hrvatska i primajte obavijesti o novim epizodama!
URL:https://ecommerce.hr/event/nominis-e39-matej-javorek-pickpack-hr-powered-by-neuralab/
CATEGORIES:Podcast
ATTACH;FMTTYPE=image/png:https://ecommerce.hr/wp-content/uploads/2022/08/javorek.png
ORGANIZER;CN="Udruga eCommerce Hrvatska":MAILTO:udruga@ecommerce.hr
END:VEVENT
BEGIN:VEVENT
DTSTART;TZID=Europe/Helsinki:20220311T140000
DTEND;TZID=Europe/Helsinki:20220311T150000
DTSTAMP:20260420T110214
CREATED:20220307T200728Z
LAST-MODIFIED:20220307T200728Z
UID:18946-1647007200-1647010800@ecommerce.hr
SUMMARY:Nominis e29 - Robert Penezić // monri.com (powered by Neuralab)
DESCRIPTION:Robert Penezić dolazi iz tvrtke Monri payments\, koja je partner udruge za payment rješenja još od 2018. godine. Nakon 10 godina provedenih u korporaciji\, PBCard-u\, 2018. se pridruzuje Monriu fintech kompaniji\, gdje je trenutno jedan od direktora.\nSaša Tenodi je voditelj najvećeg podcasta u regiji Surove Strasti\, a u Nominisu sudjeluje kao “special guest superstar” uz voditelja udruge eCommerce Hrvatska\, Marcela Majsana.\nZapratite Youtube kanal Udruge eCommerce Hrvatska i primajte obavijesti o novim epizodama koje sada možete pratiti i live!\nhttps://www.youtube.com/channel/UCXHKfN-xMjwMXRZAgJqIK9g
URL:https://ecommerce.hr/event/nominis-e29-robert-penezic-monri-com-powered-by-neuralab/
CATEGORIES:Podcast
ORGANIZER;CN="Udruga eCommerce Hrvatska":MAILTO:udruga@ecommerce.hr
END:VEVENT
BEGIN:VEVENT
DTSTART;TZID=Europe/Helsinki:20220225T140000
DTEND;TZID=Europe/Helsinki:20220225T150000
DTSTAMP:20260420T110214
CREATED:20220222T105337Z
LAST-MODIFIED:20220222T105337Z
UID:18863-1645797600-1645801200@ecommerce.hr
SUMMARY:Nominis e29 - Saša Ivanović // centarzlata.com (powered by Neuralab)
DESCRIPTION:Saša Ivanović je bivši broker koji je prije nekoliko godina postao vodeći hrvatski distributer investicijskog zlata.\nPrema podacima Centra Zlata\, potražnja za investicijskim zlatom u Hrvatskoj u velikom je rastu\, što je direktna posljedica ekonomske neizvjesnosti i inflacije. Naime\, cijena zlata u povijesti uvijek je najviše rasla u razdobljima krize\, a najbolji pokazatelj je period od 2007. do 2011. godine kada je cijena žutog plemenitog metala narasla za više od 200% u svega nekoliko godina\, što je mnogima donijelo veliku zaradu. Sličan rast mnogi očekuju i u bližoj budućnosti:\nSaša Tenodi je voditelj najvećeg podcasta u regiji Surove Strasti\, a u Nominisu sudjeluje kao “special guest superstar” uz voditelja udruge eCommerce Hrvatska\, Marcela Majsana.\nZapratite Youtube kanal Udruge eCommerce Hrvatska i primajte obavijesti o novim epizodama koje sada možete pratiti i live!\nhttps://www.youtube.com/channel/UCXHKfN-xMjwMXRZAgJqIK9g
URL:https://ecommerce.hr/event/nominis-e29-sasa-ivanovic-centarzlata-com-powered-by-neuralab/
CATEGORIES:Podcast
ATTACH;FMTTYPE=:
ORGANIZER;CN="Udruga eCommerce Hrvatska":MAILTO:udruga@ecommerce.hr
END:VEVENT
BEGIN:VEVENT
DTSTART;TZID=Europe/Helsinki:20220211T140000
DTEND;TZID=Europe/Helsinki:20220211T150000
DTSTAMP:20260420T110214
CREATED:20220210T161432Z
LAST-MODIFIED:20220210T161432Z
UID:18790-1644588000-1644591600@ecommerce.hr
SUMMARY:Nominis e28 - Dimitrije Trbović // neostar.com (powered by Neuralab)
DESCRIPTION:Dimitrije je CEO i član uprave najveće hrvatske prodajne i servisne organizacije kada je riječ o automobilima. Njegov posljednji projekt\, automobilska platforma NEOSTAR.COM\, teži donijeti transparentnost u ovaj biznis koristeći inovativne tehnologije.\n\n“Vjerujem da odustajanje nikad nije opcija. Strastveno sam vezan za prilike i jednostavnost poslovanja koje digitalna transformacija donosi u razmjeni motornih vozila. Propovijedam važnost prelaska na online način rada kad god je u moguće. Zarazno širim ljubav prema automobilima. Vjerujem da se napredak rješava sa spremnošću na promjene i ulaganjem u sebe\, a kad odustanete od učenja\, slijedi strelovit pad.”\n\nSaša Tenodi je voditelj najvećeg podcasta u regiji Surove Strasti\, a u Nominisu sudjeluje kao “special guest superstar” uz voditelja udruge eCommerce Hrvatska\, Marcela Majsana.\nZapratite Youtube kanal Udruge eCommerce Hrvatska i primajte obavijesti o novim epizodama koje sada možete pratiti i live!\nhttps://www.youtube.com/channel/UCXHKfN-xMjwMXRZAgJqIK9g
URL:https://ecommerce.hr/event/nominis-e28-dimitrije-trbovic-neostar-com-powered-by-neuralab/
CATEGORIES:Podcast
ATTACH;FMTTYPE=:
ORGANIZER;CN="Udruga eCommerce Hrvatska":MAILTO:udruga@ecommerce.hr
END:VEVENT
END:VCALENDAR