BEGIN:VCALENDAR
VERSION:2.0
PRODID:-//eCommerce Hrvatska - ECPv6.11.2//NONSGML v1.0//EN
CALSCALE:GREGORIAN
METHOD:PUBLISH
X-WR-CALNAME:eCommerce Hrvatska
X-ORIGINAL-URL:https://ecommerce.hr
X-WR-CALDESC:Events for eCommerce Hrvatska
REFRESH-INTERVAL;VALUE=DURATION:PT1H
X-Robots-Tag:noindex
X-PUBLISHED-TTL:PT1H
BEGIN:VTIMEZONE
TZID:Europe/Zagreb
BEGIN:DAYLIGHT
TZOFFSETFROM:+0100
TZOFFSETTO:+0200
TZNAME:CEST
DTSTART:20220327T010000
END:DAYLIGHT
BEGIN:STANDARD
TZOFFSETFROM:+0200
TZOFFSETTO:+0100
TZNAME:CET
DTSTART:20221030T010000
END:STANDARD
BEGIN:DAYLIGHT
TZOFFSETFROM:+0100
TZOFFSETTO:+0200
TZNAME:CEST
DTSTART:20230326T010000
END:DAYLIGHT
BEGIN:STANDARD
TZOFFSETFROM:+0200
TZOFFSETTO:+0100
TZNAME:CET
DTSTART:20231029T010000
END:STANDARD
END:VTIMEZONE
BEGIN:VTIMEZONE
TZID:Europe/Helsinki
BEGIN:DAYLIGHT
TZOFFSETFROM:+0200
TZOFFSETTO:+0300
TZNAME:EEST
DTSTART:20180325T010000
END:DAYLIGHT
BEGIN:STANDARD
TZOFFSETFROM:+0300
TZOFFSETTO:+0200
TZNAME:EET
DTSTART:20181028T010000
END:STANDARD
BEGIN:DAYLIGHT
TZOFFSETFROM:+0200
TZOFFSETTO:+0300
TZNAME:EEST
DTSTART:20190331T010000
END:DAYLIGHT
BEGIN:STANDARD
TZOFFSETFROM:+0300
TZOFFSETTO:+0200
TZNAME:EET
DTSTART:20191027T010000
END:STANDARD
BEGIN:DAYLIGHT
TZOFFSETFROM:+0200
TZOFFSETTO:+0300
TZNAME:EEST
DTSTART:20200329T010000
END:DAYLIGHT
BEGIN:STANDARD
TZOFFSETFROM:+0300
TZOFFSETTO:+0200
TZNAME:EET
DTSTART:20201025T010000
END:STANDARD
BEGIN:DAYLIGHT
TZOFFSETFROM:+0200
TZOFFSETTO:+0300
TZNAME:EEST
DTSTART:20210328T010000
END:DAYLIGHT
BEGIN:STANDARD
TZOFFSETFROM:+0300
TZOFFSETTO:+0200
TZNAME:EET
DTSTART:20211031T010000
END:STANDARD
END:VTIMEZONE
BEGIN:VEVENT
DTSTART;TZID=Europe/Zagreb:20231122T173000
DTEND;TZID=Europe/Zagreb:20231122T190000
DTSTAMP:20260420T190237
CREATED:20231110T084109Z
LAST-MODIFIED:20231110T091333Z
UID:34699-1700674200-1700679600@ecommerce.hr
SUMMARY:MEETUP - Predstavljanje Wolt Drive usluge
DESCRIPTION:Pozivamo vas na kratko druženje Udruge eCommerce Hrvatska i Wolt Hrvatska na kojoj ćemo predstaviti novu ekspresnu uslugu dostave u eCommerce sektoru – Wolt Drive \nDatum i vrijeme: Srijeda\, 22. 11. 2023. / početak 17:30 \nAgenda: \nUvod: Marin Šušnjar (Wolt) i Mislav Podnar (Wolt Drive) 5 – 10 min \nWolt Drive testimonials \n(Konzum & Links) & QA 10-20 min \neComm istraživanje 15 min \nNetwork & refreshments \nAdresa: Kuzminečka 10A\, 3. kat \nMolimo potvrdite svoj dolazak na linku.
URL:https://ecommerce.hr/event/meetup-predstavljanje-wolt-drive-usluge/
LOCATION:Kuzminečka 10A\, Kuzminečka 10A\, Zagreb\, 10000\, Croatia (Local Name: Hrvatska)
CATEGORIES:Event
ATTACH;FMTTYPE=image/png:https://ecommerce.hr/wp-content/uploads/2023/11/wolt-drive-header.png
END:VEVENT
BEGIN:VEVENT
DTSTART;VALUE=DATE:20230309
DTEND;VALUE=DATE:20230311
DTSTAMP:20260420T190237
CREATED:20230123T190304Z
LAST-MODIFIED:20230207T081916Z
UID:29743-1678320000-1678492799@ecommerce.hr
SUMMARY:Money Motion – The Only FinTech conference you should attend
DESCRIPTION:Tvrtke ASEE i Monri Payments u suradnji s UBIK-om i Mastercardom 9. i 10. ožujka u zagrebačkoj Laubi organiziraju najveću FinTech konferenciju ove godine. Money Motion okuplja najveća imena industrije s brojnim renomiranim domaćim i međunarodnim govornicima. Ideja konferencije je omogućiti regionalnim profesionalcima i entuzijastima jedinstvenu priliku za razgovor s globalnim stručnjacima\, razmjenu iskustava i znanja i stvaranje relevantnih poslovnih odnosa te tako postati jedina fintech konferencija koju trebate posjetiti. \nMoney Motion dovest će u Laubu više od 30 lidera industrije i 50 brendova kako bi razgovarali o sadašnjosti i budućnosti FinTecha – jedne od najdisruptivnijih tehnologija našeg vremena. Sudionici i posjetitelji mogu očekivati dva dana otkrivanja najnovijih trendova\, izazova i rješenja na raskrižju tradicionalnog financijskog tržišta i najsuvremenijih tehnologija našeg vremena. \n  \nČlanovi Udruge ostvaruju popust od 10 % na jednu ulaznicu uz kod ECOM10 \n  \nViše informacija možete pronaći na webu i LinkedIn profilu konferencije: \nMoney Motion – The Only FinTech conference you should attend \nMoney Motion: LinkedIn
URL:https://ecommerce.hr/event/money-motion-the-only-fintech-conference-you-should-attend/
CATEGORIES:Event,Konferencija
ATTACH;FMTTYPE=image/jpeg:https://ecommerce.hr/wp-content/uploads/2023/01/Money-Motion.jpg
END:VEVENT
BEGIN:VEVENT
DTSTART;TZID=Europe/Zagreb:20230223T190000
DTEND;TZID=Europe/Zagreb:20230223T220000
DTSTAMP:20260420T190237
CREATED:20230221T130132Z
LAST-MODIFIED:20230221T130132Z
UID:30936-1677178800-1677189600@ecommerce.hr
SUMMARY:Streaming - prodaja glazbenog svijeta?
DESCRIPTION:Glazbeni biznis je industrija koja uvelike ovisi o prodaji. Od fizičke prodaje albuma do digitalnog preuzimanja i „streamanja“\, prihod ostvaren prodajom glazbe ključan je za uspjeh izvođača\, izdavačkih kuća i industrije u cjelini. \nU prošlosti je fizička prodaja albuma bila primarni izvor prihoda glazbene industrije. Međutim\, s porastom digitalne tehnologije\, industrija se pomaknula prema digitalnoj prodaji\, pri čemu su streaming servisi kao što su Spotify i Apple Music postali dominantan oblik potrošnje glazbe. \nPosljednjih godina streaming je postao najznačajniji pokretač prihoda u glazbenoj industriji\, čineći 80% ukupnog prihoda industrije u 2020. Rast streaminga omogućio je veću izloženost umjetnika\, što je dovelo do više prilika za nastupe uživo i prodaju robe. \nMeđutim\, unatoč rastu streaminga\, fizička prodaja albuma i dalje igra važnu ulogu u glazbenoj industriji. Kolekcionari i obožavatelji još uvijek cijene fizičko iskustvo posjedovanja albuma\, što dovodi do stalne potražnje za vinilnim pločama i CD-ima. \nNaši gosti će nas uvesti u svijet glazbe\, prodaje u glazbi te novih trendova. Glazbu slušamo\, no jesmo li se ikada zapitali tko to sve plaća i kako? Odnosno\, što se tu sve prodaje? \n  \nRezerviraj svoje mjesto
URL:https://ecommerce.hr/event/streaming-prodaja-glazbenog-svijeta/
LOCATION:Sky Office\, Ul. Roberta Frangeša Mihanovića 9\, Zagreb\, Croatia (Local Name: Hrvatska)
CATEGORIES:Event
ATTACH;FMTTYPE=image/jpeg:https://ecommerce.hr/wp-content/uploads/2023/02/332297502_689151379631179_4435637863727864668_n.jpg
END:VEVENT
BEGIN:VEVENT
DTSTART;TZID=Europe/Zagreb:20230126T190000
DTEND;TZID=Europe/Zagreb:20230126T220000
DTSTAMP:20260420T190237
CREATED:20230116T135855Z
LAST-MODIFIED:20230116T145804Z
UID:28923-1674759600-1674770400@ecommerce.hr
SUMMARY:Skalabilni marketing i prodaja uz osobni brend u 2023
DESCRIPTION:Saznaj što je sve važno za skaliranje u prodaji i marketingu \, upoznaj i poveži se s vodećim stručnjacima iz prodaje i marketinga u regiji\, razmijeni znjanja i iskustva te unaprijedi svoje poslovanje. \nNa predavanju ćete naučiti: \n\nOsobni brand kao poluga za prodaju svojih proizvoda i usluga\nKako definirati identitet svog osobnog branda\nKako pozicionirati svoj osobni brand u cilju diferencijacije u odnosu na konkurenciju\nKako uklopiti svoj osobni branding u vašu generalnu marketinšku strategiju\nKako mjeriti prodajni uspjeh pod utjecajem osobnog branda\n\nRezerviraj svoje mjesto
URL:https://ecommerce.hr/event/skalabilni-marketing-i-prodaja-uz-osobni-brend-u-2023/
LOCATION:Sky Office\, Ul. Roberta Frangeša Mihanovića 9\, Zagreb\, Croatia (Local Name: Hrvatska)
CATEGORIES:Event
ATTACH;FMTTYPE=image/png:https://ecommerce.hr/wp-content/uploads/2023/01/prodajni-mindset-1-2023-istok-pavlovic.png
END:VEVENT
BEGIN:VEVENT
DTSTART;TZID=Europe/Zagreb:20221020T183000
DTEND;TZID=Europe/Zagreb:20221020T210000
DTSTAMP:20260420T190237
CREATED:20221010T170745Z
LAST-MODIFIED:20221010T193736Z
UID:26615-1666290600-1666299600@ecommerce.hr
SUMMARY:MEETUP: Kako do većeg angažmana i prodaje uz Viber za Business
DESCRIPTION:Kao online trgovac\, sigurno tražite načine za povećanje angažmana\, prodaje i privlačenje kupaca. Kada se više od 72% prodaje odvija na mobilnim uređajima\, važno je razviti mobilnu marketinšku strategiju da biste došli do svojih kupaca tamo gdje oni jesu. \nRakuten Viber\, uz Udrugu eCommerce Hrvatska\, organizira ovaj posebni event na kojem će njihov izvršni tim raspravljati o najnovijim trendovima komunikacije između branda i korisnika te Viber za Business rješenjima za svaki korak customer journeya\, objasniti vam kako upravljati svojim poslovanjem uz Viber i podijeliti priče uspjeha hrvatskih brendova uz Viber i njihove partnere Infobip. \nPrijavnicu potražite na dnu članka: https://ecommerce.hr/meetup-kako-do-veceg-angazmana-i-prodaje-uz-viber-za-business/
URL:https://ecommerce.hr/event/meetup-kako-do-veceg-angazmana-i-prodaje-uz-viber-za-business/
LOCATION:Sky Office\, Ul. Roberta Frangeša Mihanovića 9\, Zagreb\, Croatia (Local Name: Hrvatska)
CATEGORIES:Event,Meetup
ORGANIZER;CN="Udruga eCommerce Hrvatska":MAILTO:udruga@ecommerce.hr
END:VEVENT
BEGIN:VEVENT
DTSTART;TZID=Europe/Zagreb:20221019T100000
DTEND;TZID=Europe/Zagreb:20221019T120000
DTSTAMP:20260420T190237
CREATED:20221013T051056Z
LAST-MODIFIED:20221013T051300Z
UID:26672-1666173600-1666180800@ecommerce.hr
SUMMARY:Online eCommerce affiliate konferencija za adria regiju
DESCRIPTION:19.10.2022. VIVnetworks Va srdačno zove na njihovu još jednu u nizu online konferenciju\nInteres web trgovina i publishera za affiliate u Adria regiji je sve veći\, a VIVnetworks\, osim što kao predavači već tradicionalno sudjeluju na najbitnijim ecommerce događanjima u Hrvatskoj\, kao što je CRO Commerce konferencija u Zagrebu\, također Vas ovom prilikom žele srdačno pozvati na našu još jednu u nizu Online Ecommerce Affiliate konferenciju na temu „Pregled 2022. i trendovi u 2023.godini“\, a koja će se održati: \nKada: srijeda 19.10.2022. od 10 do 12 sati \nGdje: online \nJezik: hrvatski \nCijena: besplatno \nPrijaviti se možete OVDJE.
URL:https://ecommerce.hr/event/online-ecommerce-affiliate-konferencija-za-adria-regiju/
CATEGORIES:Event,Konferencija,Online meetup
ATTACH;FMTTYPE=image/png:https://ecommerce.hr/wp-content/uploads/2022/10/HR_banner_2022.png
ORGANIZER;CN="VIVnetworks":MAILTO:marina.kostkova@vivnetworks.com
END:VEVENT
BEGIN:VEVENT
DTSTART;TZID=Europe/Helsinki:20210414T180000
DTEND;TZID=Europe/Helsinki:20210414T193000
DTSTAMP:20260420T190237
CREATED:20210406T094150Z
LAST-MODIFIED:20210406T094150Z
UID:17054-1618423200-1618428600@ecommerce.hr
SUMMARY:First Zagreb WooCommerce Meetup
DESCRIPTION:Prvi zagrebački WooCommerce meetup pripremio je za vas 2 korisne lekcije – Vedran iz Neuralaba pričat će o pripremi sadržaja za WooCommerce webshopove\, a Goran iz Cinnamona o najboljim UX/UI praksama za webshopove. \nNakon izlaganja imat ćete priliku postavljati pitanja za vrijeme Q&A sessiona. \nAGENDA:\n18:00 – Meet&Greet\n18:10 – Talk: The content experience – how to prepare content for WooCommerce webshop [Vedran Hanževački]\n18:40 – Q&A session\n18:50 – Talk: Seven Magnificent (7 UX / UI Rules and patterns for eCommerce) [Goran Gluhak]\n19:20 – Q&A session\n19:30 – outro \n— \nPrvi zagrebački WooCommerce meetup održat će se 14.4. u 18 sati \nPrijavite se ovdje >> https://www.meetup.com/zagreb-woocommerce-meetup/events/276828059/
URL:https://ecommerce.hr/event/first-zagreb-woocommerce-meetup/
CATEGORIES:Edukacija,Event
ATTACH;FMTTYPE=:
END:VEVENT
BEGIN:VEVENT
DTSTART;VALUE=DATE:20190919
DTEND;VALUE=DATE:20190923
DTSTAMP:20260420T190237
CREATED:20190627T140238Z
LAST-MODIFIED:20190627T140238Z
UID:12580-1568851200-1569196799@ecommerce.hr
SUMMARY:Weekend Media Festival (XII) - od sada i na hrvatskom Monopolyu
DESCRIPTION:Najveći komunikacijski festival u regiji uključen u najpoznatiju društvenu igru na svijetu.\nWeekend Media Festival\, najveći komunikacijski festival u regiji dobio je svoju karticu u hrvatskom izdanju omiljene obiteljske društvene igre Monopoly. U stvaranju hrvatskog izdanja ove legendarne igre\, koju od 1935. godine igra više od milijardu ljudi u 114 zemalja svijeta\, sudjelovali su hrvatski građani dajući svoje prijedloge što bi voljeli vidjeti na igraćoj ploči. Tako je među većim hrvatskim gradovima i otocima\, popularnim kulturnim znamenitostima i prirodnim ljepotama svoje mjesto dobila i kartica s Weekend Media Festivalom. \n„Razveselila me informacija da se Weekend našao u Monopolyju. To nam samo potvrđuje ono što oduvijek znamo: Weekend je festival koji se ne propušta”\, izjavio je Tomo Ricov\, direktor festivala. \nVeliko je ovo priznanje za festival koji se održava već 12. godinu za redom\, a koji donosi najnovije trendove i izazove koji nas očekuju u komunikacijskoj industriji. Osim što je nezaobilazan događaj\, ne samo među brojnim stručnjacima iz komunikacijske i marketinške branše\, Weekend je dobio i novu generaciju posjetitelja te postao nezaobilazan dio druženja uz Monopoly. \n„Weekend već toliko dugo postoji da imamo i novu generacija posjetitelja. Broj klinaca koji posjećuju festival svake je godine sve veći pa mi je normalno da djeca naših prijatelja i suradnika\, kao i naši klinci\, znaju za Weekend i prate što se događa. Bio sam oduševljen kada je Nina\, kćerka našeg producenta s kojom inače razmjenjujem Dylan Dogove\, poslala sliku kartica Monopolyja s Weekendom. A i ja sam kao dijete s tatom i bratom napravio našu verziju Monopolyja koji je postao hit u kvartu u kojem sam odrastao. Ovime svih 11 dosadašnjih Weekend Media Festivala dobivaju neko sasvim novo značenje“\, istaknuo je Boris Kovaček\, izvršni direktor i producent festivala. \nNajbolji Weekend u godini održat će se od 19. do 22. rujna u Rovinju. Na 12. Weekend Media Festivalu očekuje se rekordan broj posjetitelja\, zanimljivi paneli\, atraktivni predavači i najbolja zabava tijekom sva tri dana festivala. Novost je i Weekend paket koji omogućava rezervaciju smještaja i kotizaciju. Uz to\, svi marketingaši svoje radove mogu prijaviti na osmi po redu BalCannes\, a najbolje digitalne radove predstavit će najvažnija regionalna digitalna nagrada – SoMo Borac. \nZa više informacija pratite weekendmediafestival.com
URL:https://ecommerce.hr/event/weekend-media-festival-xii-od-sada-i-na-hrvatskom-monopolu/
LOCATION:Stara tvornica duhana Rovinj\, Obala Vladimira Nazora\, Rovinj\, 52210\, Croatia (Local Name: Hrvatska)
CATEGORIES:Event,Konferencija
ATTACH;FMTTYPE=:
ORGANIZER;CN="Pepermint":MAILTO:Info@weekendmediafestival.com
END:VEVENT
BEGIN:VEVENT
DTSTART;TZID=Europe/Helsinki:20181011T170000
DTEND;TZID=Europe/Helsinki:20181011T210000
DTSTAMP:20260420T190237
CREATED:20181001T083459Z
LAST-MODIFIED:20181001T083459Z
UID:7971-1539277200-1539291600@ecommerce.hr
SUMMARY:EVENT: Digital Picnic
DESCRIPTION: 11.10.2018. u Travel & Technology Hubu održat će se drugi po redu\, ovogodišnji Digital Picnic Zagreb. Drugo izdanje u cijelosti je posvećeno Ecommerce poslovanju\, s naglaskom na digitalni dijalog web trgovaca i njihovih kupaca te ciljnih skupina. \nUspješni hrvatski web trgovci: Goran Vrabec (volimljuto.com\, spicydays.com)\, Claudio Kramarić (wow-junkie.com) te Danira Glavinić i Stipe Kustić (dadaandrocco.com) u panelu će odgovoriti na pitanja vezana uz vlastite početke i poteze koji su ih doveli do uspješnog poslovanja\, no i na pitanja vezana uz izazove s kojima su se susretali i još uvijek se svakodnevno susreću. \nPanelu će prethoditi predavanje Tanje Šincek\, Voditeljice cross-funkcionalnog marketinga i razvojnog tima studia Marker\, na temu NAJVAŽNIJIH ZNAČAJKI DOBROG WEBSHOP DIZAJNA. \nProgram će svojim gostovanjem zatvoriti predsjednik udruge Ecommerce Hrvatska – Marcel Majsan\, & Dijana Kladar – pravnica te Petra Velijević – Digital Media Specialist iz Nali agencije za promidžbu. Gosti će se u posljednjem dijelu programa osvrnuti na ecommerce trendove\, GDPR praksu hrvatskih web trgovaca te utjecaj društvenih mreža na ecommerce poslovanje. \n \nPo završetku službenog dijela programa\, polaznici će u ugodnom i modernom ambijentu Travel & Technology Huba u networking dijelu eventa imati priliku upoznati organizatore\, predavače\, paneliste i druge sudionike te podijeliti iskustva i posjetnice\, inspirirati se\, saznati nešto novo i kreirati nove prilike uz snack i osvježavajuća pića koja su također uključena u cijenu. \nOvo je drugi ovogodišnji Digital Picnic\, u organizaciji Essenta agencije za web i marketing\, koji za cilj ima dobru hrvatsku digitalnu i digitalno marketinšku poslovnu praksu što više približiti drugima kroz stvarne\, uspješne primjere i tako sa svojim sudionicima doprinjeti rastu hrvatske poduzetničke i freelance scene. Projekt djeluje pod geslom: „Teorija je zakon\, ali praksa je majka“ obzirom da je upravo praksa ta na koju se event fokusira i kroz koju uspješni poduzetnici\, predavači i gosti svoja iskustva dijele s onima koji se \, agenu poduzetnički svijet tek planiraju upustiti\, ili planiraju novi korak u svom poduzetničkom poduhvatu\, ističe Ivana Fakin\, voditeljica projekta\, koja je i sama poduzetnica. Bitno je poticati diskusiju o primjeni digitalnog marketinga u praksi kako bismo međusobno učili jedni od drugih i lakše postizali uspjeh\, dodaje Ana Župan\, suradnica na projektu. \nUlaznice za Digital Picnic možete kupiti ovdje\, a upite za sudjelovanje u projektu možete slati na be@digitalpicnic-zagreb.com
URL:https://ecommerce.hr/event/event-digital-picnic/
CATEGORIES:Event
ATTACH;FMTTYPE=:
ORGANIZER;CN="Essenta":MAILTO:office@essenta.agency
END:VEVENT
END:VCALENDAR