BEGIN:VCALENDAR
VERSION:2.0
PRODID:-//eCommerce Hrvatska - ECPv6.11.2//NONSGML v1.0//EN
CALSCALE:GREGORIAN
METHOD:PUBLISH
X-ORIGINAL-URL:https://ecommerce.hr
X-WR-CALDESC:Events for eCommerce Hrvatska
REFRESH-INTERVAL;VALUE=DURATION:PT1H
X-Robots-Tag:noindex
X-PUBLISHED-TTL:PT1H
BEGIN:VTIMEZONE
TZID:Europe/Zagreb
BEGIN:DAYLIGHT
TZOFFSETFROM:+0100
TZOFFSETTO:+0200
TZNAME:CEST
DTSTART:20250330T010000
END:DAYLIGHT
BEGIN:STANDARD
TZOFFSETFROM:+0200
TZOFFSETTO:+0100
TZNAME:CET
DTSTART:20251026T010000
END:STANDARD
END:VTIMEZONE
BEGIN:VEVENT
DTSTART;TZID=Europe/Zagreb:20251129T180000
DTEND;TZID=Europe/Zagreb:20251129T180000
DTSTAMP:20260421T030849
CREATED:20251126T161027Z
LAST-MODIFIED:20251126T161134Z
UID:46781-1764439200-1764439200@ecommerce.hr
SUMMARY:Unicorn Marketing Meetup Vol. 3: Poznati stručnjaci za brending i marketing dolaze u Split
DESCRIPTION:Nakon dva uspješna i iznimno posjećena događaja\, Unicorn Marketing Meetup najavljuje svoje treće izdanje koje će se održati u subotu\, 29. studenog 2025. u 18.00 sati u Tehnološkom parku Split (Dračevac). Ovaj meetup\, koji je brzo postao nezaobilazno mjesto za sve koji se bave marketingom i biznisom\, i ovog puta donosi dvije inspirativne priče i priliku za umrežavanje s vodećim ljudima iz industrije. \nOvog puta\, predavačke palice preuzimaju dva istaknuta imena s bogatim iskustvom u stvaranju i vođenju uspješnih brendova: \n– Karla Vučković\, Marketing Direktorica u agenciji INTENNSE i osnivačica brenda Shina\, održat će predavanje na temu ‘Kako voditi brand kada pravila prestanu vrijediti?’. Kroz stvarne priče i lekcije\, Karla će pokazati kako brend može ostati dosljedan\, zadržati povjerenje i izaći jači iz kriznih situacija\, pretvarajući kaos u strategiju. \n– Marko Ugrčić\, Head of Marketing u tvrtki Zorina mast i vlasnik agencije Marketize\, govorit će na temu ‘Marketing koji traje i povezuje: kad konverzija nije cilj\, nego posljedica’. Kroz primjere iz prakse\, Marko će otkriti kako autentičnost i povjerenje pretvaraju brend u lifestyle i stvaraju zajednicu koja istinski vjeruje u priču. \nUlaz na Unicorn Marketing Meetup Vol. 3 je besplatan\, a za sve sudionike osigurana je hrana i piće. Zbog ograničenog broja od 140 mjesta\, prijave su obavezne. Link za prijave – https://prijava.unicornmarketingmeetup.com/29-11-2025. \nOrganizatori meetupa su Hedera d.o.o.\, Mushroom Cups d.o.o.\, Zorina Mast d.o.o i SERP Rise d.o.o.
URL:https://ecommerce.hr/event/unicorn-marketing-meetup-vol-3-poznati-strucnjaci-za-brending-i-marketing-dolaze-u-split/
CATEGORIES:Event
ATTACH;FMTTYPE=image/jpeg:https://ecommerce.hr/wp-content/uploads/2025/11/2025-11-25-13-31-4557-.jpeg
END:VEVENT
END:VCALENDAR