BEGIN:VCALENDAR
VERSION:2.0
PRODID:-//eCommerce Hrvatska - ECPv6.11.2//NONSGML v1.0//EN
CALSCALE:GREGORIAN
METHOD:PUBLISH
X-WR-CALNAME:eCommerce Hrvatska
X-ORIGINAL-URL:https://ecommerce.hr
X-WR-CALDESC:Events for eCommerce Hrvatska
REFRESH-INTERVAL;VALUE=DURATION:PT1H
X-Robots-Tag:noindex
X-PUBLISHED-TTL:PT1H
BEGIN:VTIMEZONE
TZID:Europe/Zagreb
BEGIN:DAYLIGHT
TZOFFSETFROM:+0100
TZOFFSETTO:+0200
TZNAME:CEST
DTSTART:20240331T010000
END:DAYLIGHT
BEGIN:STANDARD
TZOFFSETFROM:+0200
TZOFFSETTO:+0100
TZNAME:CET
DTSTART:20241027T010000
END:STANDARD
END:VTIMEZONE
BEGIN:VEVENT
DTSTART;TZID=Europe/Zagreb:20240320T100000
DTEND;TZID=Europe/Zagreb:20240320T120000
DTSTAMP:20260422T103258
CREATED:20240318T093433Z
LAST-MODIFIED:20240318T093457Z
UID:39065-1710928800-1710936000@ecommerce.hr
SUMMARY:Online eCommerce affiliate konferencija 2024
DESCRIPTION:20.03.2024. srdačno Vas zovemo na naš online događaj\, koji je savršen za sve vlasnike e-trgovina\, publisherskih portala i decision-makere u e-poslovanju.\nAdria regija ide krupnim e-commerce i affiliate koracima naprijed\, a kako bi Vaša kreativnost za postizanje online rezultata dalje rasla i Vi bili u tijeku s online dešavanjima\, organiziramo 4. u nizu Online Ecommerce Affiliate konferenciju za Adria regiju na temu “Kako dobro pozicionirati svoj online biznis”\, a koja će se održati: \nKada: srijeda 20.3.2024. od 10 do 12 sati\nGdje: online (MS Teams) – link šaljemo dan prije konferencije na Vaš email\nJezik: hrvatski / srpski\nCijena: besplatno\nPrijaviti se možete OVDJE.
URL:https://ecommerce.hr/event/online-ecommerce-affiliate-konferencija-4/
CATEGORIES:Event,Konferencija,Online meetup
ATTACH;FMTTYPE=image/png:https://ecommerce.hr/wp-content/uploads/2024/03/vivnetworks-affiliate-konferencija-4.png
ORGANIZER;CN="VIVnetworks":MAILTO:marina.kostkova@vivnetworks.com
END:VEVENT
END:VCALENDAR