BEGIN:VCALENDAR
VERSION:2.0
PRODID:-//eCommerce Hrvatska - ECPv6.11.2//NONSGML v1.0//EN
CALSCALE:GREGORIAN
METHOD:PUBLISH
X-WR-CALNAME:eCommerce Hrvatska
X-ORIGINAL-URL:https://ecommerce.hr
X-WR-CALDESC:Events for eCommerce Hrvatska
REFRESH-INTERVAL;VALUE=DURATION:PT1H
X-Robots-Tag:noindex
X-PUBLISHED-TTL:PT1H
BEGIN:VTIMEZONE
TZID:Europe/Zagreb
BEGIN:DAYLIGHT
TZOFFSETFROM:+0100
TZOFFSETTO:+0200
TZNAME:CEST
DTSTART:20240331T010000
END:DAYLIGHT
BEGIN:STANDARD
TZOFFSETFROM:+0200
TZOFFSETTO:+0100
TZNAME:CET
DTSTART:20241027T010000
END:STANDARD
END:VTIMEZONE
BEGIN:VEVENT
DTSTART;TZID=Europe/Zagreb:20240314T190000
DTEND;TZID=Europe/Zagreb:20240314T230000
DTSTAMP:20260422T103231
CREATED:20240308T094851Z
LAST-MODIFIED:20240308T094851Z
UID:38888-1710442800-1710457200@ecommerce.hr
SUMMARY:Prodajni Mindset Networking Event - Pouke Camina za lidere i menadžere
DESCRIPTION:Malo tko je zadovoljan onime što ima. Svi žele više. No\, iskorak prema više zahtijeva da trebamo manje. Jedini put prema van vodi nas zapravo unutra. Što nas čuveno hodočašće Camino de Santiago može naučiti o poslu i prodaji ispričat će nam Boris Trupčević\, medijski stručnjak koji je prehodavši 1000 kilometara tri desetljeća poslovnog iskustva sažeo u 33 pouke za uspjeh. Njegova najvažnija pouka jest da prvo sebi moramo prodati mir umjesto da kupujemo bijeg. Uz to\, moramo odbaciti sva razmišljanja. Tu počinje magija.\n\nPridružite nam se na eventu gdje će Boris ispričati tko je i što je i svoju kratku priču o hodočašću Camino. Zašto svi žele kupiti bijeg od realnost? Zato što je mnogo teže sebi prodati mir. Mnogo je teže odgovore potražiti u sebi i baviti se vlastitom nutrinom nego stalno kupovati vanjske kompenzacije i dopaminske injekcije. Jedna od njih su grčevito zgrtanje novaca i poslovnih uspjeha. Bijeg od realnosti je društvena norma\, razgovor sa samim sobom je rezerviran samo za najjače i najhrabrije.\n\n“Najvažniji prodajni sastanci koje ćete ikada imati su oni sa samim sobom. Sebi ćete najteže prodati mir i sreću. Vi ne morate odustati od svojih ciljeva i ambicija\, ali morate shvatiti da one neće donijeti ni pravi mir ni pravu sreću. To možete jedino pronaći u sebi. Nakon svih mojih poslovnih uspjeha osjećao sam ispunjenje i ponos\, ali podjednako i prazninu. Što sad? Kamo dalje? Čime ponovno zapuniti tu rupu? Ambicije i ciljeve morate drugačije sagledati i dati im drugačije značenje i na taj način bit ćete bolji u prodaji ili bilo čemu što radite. Završetak Camina bio je bez praznine\, bio je ispunjenje i duboki osjećaj novog početka jednog velikog putovanja”\n\n\nUlaznice možete kupiti ovdje: https://www.entrio.hr/event/prodajni-mindset-prodaja-u-kreativnoj-industriji-17281
URL:https://ecommerce.hr/event/prodajni-mindset-networking-event-pouke-camina-za-lidere-i-menadzere/
LOCATION:Sky Office\, Ul. Roberta Frangeša Mihanovića 9\, Zagreb\, Croatia (Local Name: Hrvatska)
CATEGORIES:Event
END:VEVENT
END:VCALENDAR