BEGIN:VCALENDAR
VERSION:2.0
PRODID:-//eCommerce Hrvatska - ECPv6.11.2//NONSGML v1.0//EN
CALSCALE:GREGORIAN
METHOD:PUBLISH
X-ORIGINAL-URL:https://ecommerce.hr
X-WR-CALDESC:Events for eCommerce Hrvatska
REFRESH-INTERVAL;VALUE=DURATION:PT1H
X-Robots-Tag:noindex
X-PUBLISHED-TTL:PT1H
BEGIN:VTIMEZONE
TZID:Europe/Zagreb
BEGIN:DAYLIGHT
TZOFFSETFROM:+0100
TZOFFSETTO:+0200
TZNAME:CEST
DTSTART:20250330T010000
END:DAYLIGHT
BEGIN:STANDARD
TZOFFSETFROM:+0200
TZOFFSETTO:+0100
TZNAME:CET
DTSTART:20251026T010000
END:STANDARD
END:VTIMEZONE
BEGIN:VEVENT
DTSTART;TZID=Europe/Zagreb:20250509T170000
DTEND;TZID=Europe/Zagreb:20250509T235900
DTSTAMP:20260421T110611
CREATED:20241206T143732Z
LAST-MODIFIED:20250409T131657Z
UID:43480-1746810000-1746835140@ecommerce.hr
SUMMARY:eCommAwards 2025 (& Party! povodom 10 godina udruge)
DESCRIPTION:eCommAwards je natjecanje webshopova i web stranica eCommService Providera\,  a u organizaciji udruge eCommerce Hrvatska. \nPrijave su ove godine otvorene od 1.2. do 1.4.2025.\, a sama ceremonija će se održati 9.5.2025. u Sky Officeu u Zagrebu. \nNakon ceremonije slijedi veliki party na kojem ćemo uz podršku partnera i prijatelja Udruge proslaviti naš 10. rođendan 🥳 \nPretplatite se na naš kalendar događanja i naš newsletter i budite obaviješteni o svim novostima!
URL:https://ecommerce.hr/event/ecommawards/
LOCATION:Sky Office\, Ul. Roberta Frangeša Mihanovića 9\, Zagreb\, Croatia (Local Name: Hrvatska)
CATEGORIES:Event
ORGANIZER;CN="Udruga eCommerce Hrvatska":MAILTO:udruga@ecommerce.hr
END:VEVENT
END:VCALENDAR