BEGIN:VCALENDAR
VERSION:2.0
PRODID:-//eCommerce Hrvatska - ECPv6.11.2//NONSGML v1.0//EN
CALSCALE:GREGORIAN
METHOD:PUBLISH
X-WR-CALNAME:eCommerce Hrvatska
X-ORIGINAL-URL:https://ecommerce.hr
X-WR-CALDESC:Events for eCommerce Hrvatska
REFRESH-INTERVAL;VALUE=DURATION:PT1H
X-Robots-Tag:noindex
X-PUBLISHED-TTL:PT1H
BEGIN:VTIMEZONE
TZID:Europe/Athens
BEGIN:DAYLIGHT
TZOFFSETFROM:+0200
TZOFFSETTO:+0300
TZNAME:EEST
DTSTART:20240331T010000
END:DAYLIGHT
BEGIN:STANDARD
TZOFFSETFROM:+0300
TZOFFSETTO:+0200
TZNAME:EET
DTSTART:20241027T010000
END:STANDARD
END:VTIMEZONE
BEGIN:VTIMEZONE
TZID:Europe/Zagreb
BEGIN:DAYLIGHT
TZOFFSETFROM:+0100
TZOFFSETTO:+0200
TZNAME:CEST
DTSTART:20240331T010000
END:DAYLIGHT
BEGIN:STANDARD
TZOFFSETFROM:+0200
TZOFFSETTO:+0100
TZNAME:CET
DTSTART:20241027T010000
END:STANDARD
END:VTIMEZONE
BEGIN:VEVENT
DTSTART;VALUE=DATE:20240217
DTEND;VALUE=DATE:20240219
DTSTAMP:20260422T102925
CREATED:20231128T084056Z
LAST-MODIFIED:20231129T133828Z
UID:35022-1708128000-1708300799@ecommerce.hr
SUMMARY:eCommerce & Digital Marketing Expo NORTH / Solun\, Grčka
DESCRIPTION:Treća sajamska izložba eCommerce & Digital Marketing Expo NORTH održat će se u Solunu te predstavlja najvažniji događaj koji prati teme u područjima web trgovine i digitalnog marketinga u sjevernoj Grčkoj. \nOvaj sajam\, u čijem će se programu održati i konferencija\, na programu je 17. i 18. veljače 2024. u Vellideio Conference Centru koji se nalazi u sklopu sajamskog i kongresnog centra Helexpo International Exhibition and Congress Center. \nPrijaviti se možete OVDJE. \nViše o eCommerce & Digital Marketing Expo NORTH 2024 doznajte na linku.
URL:https://ecommerce.hr/event/ecommerce-digital-marketing-expo-north-solun-grcka/
LOCATION:Vellideio Conference Center\, Leof. Stratou 3\, Thessaloniki 546 36\, Greece\, Solun\, 546 36\, Greece
CATEGORIES:Event
ATTACH;FMTTYPE=image/png:https://ecommerce.hr/wp-content/uploads/2023/11/eCommerce-Digital-Marketing-Expo.png
END:VEVENT
BEGIN:VEVENT
DTSTART;TZID=Europe/Zagreb:20240222T190000
DTEND;TZID=Europe/Zagreb:20240222T230000
DTSTAMP:20260422T102925
CREATED:20231127T101604Z
LAST-MODIFIED:20240213T151203Z
UID:35014-1708628400-1708642800@ecommerce.hr
SUMMARY:Prodajni Mindset Networking Event - PRODAJA U KREATIVNOJ INDUSTRIJI
DESCRIPTION:"Prodaja u Kreativnoj Industriji" tema je panela na kojem sudjeluju: Timija Kovačevića – CEO\, DC&T i Vedrana Družinu – Kreativni direktor\, DC&T\n\nHrvatska tvrtka za dizajn i uređenje interijera DC&T\, specijalizirana za uređenje poslovnih prostora\, u Arapskim Emiratima postigla je ogroman uspjeh te postavila potpuno nove standarde kad je u pitanju uređenje poliklinika i zdravstvenih ordinacija širokog spektra aktivnosti. S nizom projekata uspješno realiziranih u Dubaiu\, DC&T konačno upoznaje hrvatsko tržište s najnovijim svjetskim praksama.\n\nDizajnerska filozofija ovog tima temelji se na ideji da prostor treba biti više od estetski privlačnog mjesta. Svaki kutak\, svaka linija i svaki materijal dio su veće priče – priče koja se usredotočuje na funkcionalnost\, adaptabilnost i održivost.\n\nModel Design+Build premošćuje jaz između kreativne vizije i praktične realizacije. Ovaj pristup ne samo da ubrzava procese\, već i smanjuje troškove\, dok istovremeno povećava efikasnost i minimizira mogućnost pogrešaka. U kontekstu današnjeg brzog poslovnog okružja\, gdje svaki detalj ima značaj\, ovaj integrirani pristup predstavlja više od puke potrebe – on postaje imperativ.\n\nPridružite nam se na iznimnom događaju koji će vas inspirirati i potaknuti na nova postignuća!\n\n📋 Program događaja:\n\n19:00 - 19:30: Registracija i networking\n19:30 - 20:30: Panel "Prodaja u kreativnoj industriji"\n20:30 - 21:00: Pitanja i odgovori s gostima\n21:00 - 00:00: Party & Networking\n\n\n🪄Ne propustite priliku sudjelovati u jedinstvenom događaju koji će vam pružiti uvid u najnovije trendove\, tehnike prodaje i marketinške strategije u kreativnoj industriji. Pridružite nam se kako bismo zajedno gradili uspješne priče iz kreativnog svijeta!📝\n\nVidimo se 22. veljače 2024. na jedinstvenom edukativno-zabavnom eventu!🥂\n\nUlaznice možete kupiti ovdje: https://www.entrio.hr/event/prodajni-mindset-prodaja-u-kreativnoj-industriji-17281
URL:https://ecommerce.hr/event/prodajni-mindset-networking-event-veljaca/
LOCATION:Sky Office\, Ul. Roberta Frangeša Mihanovića 9\, Zagreb\, Croatia (Local Name: Hrvatska)
CATEGORIES:Event
ATTACH;FMTTYPE=image/jpeg:https://ecommerce.hr/wp-content/uploads/2023/11/prodajni-mindset.jpg
END:VEVENT
END:VCALENDAR