BEGIN:VCALENDAR
VERSION:2.0
PRODID:-//eCommerce Hrvatska - ECPv6.11.2//NONSGML v1.0//EN
CALSCALE:GREGORIAN
METHOD:PUBLISH
X-ORIGINAL-URL:https://ecommerce.hr
X-WR-CALDESC:Events for eCommerce Hrvatska
REFRESH-INTERVAL;VALUE=DURATION:PT1H
X-Robots-Tag:noindex
X-PUBLISHED-TTL:PT1H
BEGIN:VTIMEZONE
TZID:Europe/Zagreb
BEGIN:DAYLIGHT
TZOFFSETFROM:+0100
TZOFFSETTO:+0200
TZNAME:CEST
DTSTART:20230326T010000
END:DAYLIGHT
BEGIN:STANDARD
TZOFFSETFROM:+0200
TZOFFSETTO:+0100
TZNAME:CET
DTSTART:20231029T010000
END:STANDARD
END:VTIMEZONE
BEGIN:VEVENT
DTSTART;TZID=Europe/Zagreb:20231207T180000
DTEND;TZID=Europe/Zagreb:20231207T210000
DTSTAMP:20260424T162323
CREATED:20231130T102416Z
LAST-MODIFIED:20231130T102416Z
UID:35086-1701972000-1701982800@ecommerce.hr
SUMMARY:eCommerce Šahovske večeri
DESCRIPTION:Bavite se eCommerceom i volite šah? \nPrijavite se na naše Šahovske večeri i upoznajte zanimljive ljude iz eCommerce zajednice! \nLOKACIJA: Sky Office Tower\, Zagreb (Business Club) \n\nimamo max 6 igrača i 6 promatrača na svakom susretu\nsvaki igrač će odigrati 3 partije na svakom susretu\nvino i grickalice osigurava udruga eCommerce Hrvatska \n\nPrijave: https://ecommerce.hr/prijava/ecommerce-sahovske-veceri/
URL:https://ecommerce.hr/event/ecommerce-sahovske-veceri-2/
LOCATION:Sky Office\, Ul. Roberta Frangeša Mihanovića 9\, Zagreb\, Croatia (Local Name: Hrvatska)
CATEGORIES:Event
ORGANIZER;CN="Udruga eCommerce Hrvatska":MAILTO:udruga@ecommerce.hr
END:VEVENT
BEGIN:VEVENT
DTSTART;TZID=Europe/Zagreb:20231214T180000
DTEND;TZID=Europe/Zagreb:20231214T210000
DTSTAMP:20260424T162323
CREATED:20231130T102510Z
LAST-MODIFIED:20231130T102510Z
UID:35088-1702576800-1702587600@ecommerce.hr
SUMMARY:eCommerce Šahovske večeri
DESCRIPTION:Bavite se eCommerceom i volite šah? \nPrijavite se na naše Šahovske večeri i upoznajte zanimljive ljude iz eCommerce zajednice! \nLOKACIJA: Sky Office Tower\, Zagreb (Business Club) \n\nimamo max 6 igrača i 6 promatrača na svakom susretu\nsvaki igrač će odigrati 3 partije na svakom susretu\nvino i grickalice osigurava udruga eCommerce Hrvatska \n\nPrijave: https://ecommerce.hr/prijava/ecommerce-sahovske-veceri/
URL:https://ecommerce.hr/event/ecommerce-sahovske-veceri-3/
LOCATION:Sky Office\, Ul. Roberta Frangeša Mihanovića 9\, Zagreb\, Croatia (Local Name: Hrvatska)
CATEGORIES:Event
ORGANIZER;CN="Udruga eCommerce Hrvatska":MAILTO:udruga@ecommerce.hr
END:VEVENT
END:VCALENDAR